BEGIN:VCALENDAR
VERSION:2.0
PRODID:-//3nity.com//3nity CMS//EN
BEGIN:VEVENT
SUMMARY:Prayer Call
UID:2026-07-18-1207077@www.centurychapelcmechurch.org
SEQUENCE:0
STATUS:CONFIRMED
DTSTART:20260512T100000
DTEND:20260512T110000
DTSTAMP:20161222T120000
DESCRIPTION:Call In Number: 1-339-209-4768
URL:http://www.centurychapelcmechurch.org
END:VEVENT
END:VCALENDAR
